BEGIN:VCALENDAR
VERSION:2.0
PRODID:-//バッファロー日本人会 Japanese Group of Buffalo - ECPv6.15.20//NONSGML v1.0//EN
CALSCALE:GREGORIAN
METHOD:PUBLISH
X-WR-CALNAME:バッファロー日本人会 Japanese Group of Buffalo
X-ORIGINAL-URL:https://yokosobuffalo.org
X-WR-CALDESC:バッファロー日本人会 Japanese Group of Buffalo のイベント
REFRESH-INTERVAL;VALUE=DURATION:PT1H
X-Robots-Tag:noindex
X-PUBLISHED-TTL:PT1H
BEGIN:VTIMEZONE
TZID:America/New_York
BEGIN:DAYLIGHT
TZOFFSETFROM:-0500
TZOFFSETTO:-0400
TZNAME:EDT
DTSTART:20250309T070000
END:DAYLIGHT
BEGIN:STANDARD
TZOFFSETFROM:-0400
TZOFFSETTO:-0500
TZNAME:EST
DTSTART:20251102T060000
END:STANDARD
BEGIN:DAYLIGHT
TZOFFSETFROM:-0500
TZOFFSETTO:-0400
TZNAME:EDT
DTSTART:20260308T070000
END:DAYLIGHT
BEGIN:STANDARD
TZOFFSETFROM:-0400
TZOFFSETTO:-0500
TZNAME:EST
DTSTART:20261101T060000
END:STANDARD
BEGIN:DAYLIGHT
TZOFFSETFROM:-0500
TZOFFSETTO:-0400
TZNAME:EDT
DTSTART:20270314T070000
END:DAYLIGHT
BEGIN:STANDARD
TZOFFSETFROM:-0400
TZOFFSETTO:-0500
TZNAME:EST
DTSTART:20271107T060000
END:STANDARD
END:VTIMEZONE
BEGIN:VEVENT
DTSTART;TZID=America/New_York:20260321T133000
DTEND;TZID=America/New_York:20260321T160000
DTSTAMP:20260421T065957
CREATED:20260311T223250Z
LAST-MODIFIED:20260311T223410Z
UID:3594-1774099800-1774108800@yokosobuffalo.org
SUMMARY:ニットカフェ/Knit Café
DESCRIPTION:3月のニットカフェ（編み物グループ）を以下の通り、開催いたします。\nご自分のプロジェクトをご持参下さい。初心者の方も大歓迎です。楽しくおしゃべりしながら、編み物を楽しみましょう。\n参加ご希望の方は開催場所等についt、お問い合わせフォームよりご連絡ください。 \nMarch Knit Café (knitting group) will be held as below.\nYou can bring your own project.\nBeginners are welcome too. Let’s enjoy knitting together while chatting in a relaxed and friendly atmosphere.\nContact us regarding the venue.
URL:https://yokosobuffalo.org/event/%e3%83%8b%e3%83%83%e3%83%88%e3%82%ab%e3%83%95%e3%82%a7%ef%bc%8fknit-cafe/
CATEGORIES:Events by JGB 日本人会
END:VEVENT
BEGIN:VEVENT
DTSTART;TZID=America/New_York:20260418T130000
DTEND;TZID=America/New_York:20260418T150000
DTSTAMP:20260421T065957
CREATED:20260302T214621Z
LAST-MODIFIED:20260302T214621Z
UID:3590-1776517200-1776524400@yokosobuffalo.org
SUMMARY:年次総会／Annual Meeting
DESCRIPTION:
URL:https://yokosobuffalo.org/event/%e5%b9%b4%e6%ac%a1%e7%b7%8f%e4%bc%9a%ef%bc%8fannual-meeting/
LOCATION:Audubon Public Library\, 350 John James Audubon Pkwy\, Buffalo\, NY\, 14228\, United States
CATEGORIES:Events by JGB 日本人会
END:VEVENT
END:VCALENDAR