BEGIN:VCALENDAR
VERSION:2.0
PRODID:-//バッファロー日本人会 Japanese Group of Buffalo - ECPv6.15.20//NONSGML v1.0//EN
CALSCALE:GREGORIAN
METHOD:PUBLISH
X-WR-CALNAME:バッファロー日本人会 Japanese Group of Buffalo
X-ORIGINAL-URL:https://yokosobuffalo.org
X-WR-CALDESC:バッファロー日本人会 Japanese Group of Buffalo のイベント
REFRESH-INTERVAL;VALUE=DURATION:PT1H
X-Robots-Tag:noindex
X-PUBLISHED-TTL:PT1H
BEGIN:VTIMEZONE
TZID:America/New_York
BEGIN:DAYLIGHT
TZOFFSETFROM:-0500
TZOFFSETTO:-0400
TZNAME:EDT
DTSTART:20250309T070000
END:DAYLIGHT
BEGIN:STANDARD
TZOFFSETFROM:-0400
TZOFFSETTO:-0500
TZNAME:EST
DTSTART:20251102T060000
END:STANDARD
BEGIN:DAYLIGHT
TZOFFSETFROM:-0500
TZOFFSETTO:-0400
TZNAME:EDT
DTSTART:20260308T070000
END:DAYLIGHT
BEGIN:STANDARD
TZOFFSETFROM:-0400
TZOFFSETTO:-0500
TZNAME:EST
DTSTART:20261101T060000
END:STANDARD
BEGIN:DAYLIGHT
TZOFFSETFROM:-0500
TZOFFSETTO:-0400
TZNAME:EDT
DTSTART:20270314T070000
END:DAYLIGHT
BEGIN:STANDARD
TZOFFSETFROM:-0400
TZOFFSETTO:-0500
TZNAME:EST
DTSTART:20271107T060000
END:STANDARD
END:VTIMEZONE
BEGIN:VEVENT
DTSTART;VALUE=DATE:20260428
DTEND;VALUE=DATE:20260429
DTSTAMP:20260425T101144
CREATED:20260411T123221Z
LAST-MODIFIED:20260411T123221Z
UID:3654-1777334400-1777420799@yokosobuffalo.org
SUMMARY:お茶会／Tea Tasting
DESCRIPTION:Join us for a special Japanese Tea Ceremony and Tea tasting. The evening will feature a Japanese Tea Ceremony along with an opportunity to taste three teas and learn about the background and preparation of each tea. The Tea Tasting will be hosted by Atsuko Nishida Mitchell\, Certified Tea Ceremony Instructor and the Friends of the Japanese Garden. \nTime:\n5:15-6:15 pm (Session 1)\n6:45-7:45 pm (Session 2)
URL:https://yokosobuffalo.org/event/%e3%81%8a%e8%8c%b6%e4%bc%9a%ef%bc%8ftea-tasting/
LOCATION:Buffalo History Museum\, 1 Museum Ct\,\, Buffalo\, NY\, 14216\, United States
CATEGORIES:Events in Buffalo/WNY
END:VEVENT
BEGIN:VEVENT
DTSTART;TZID=America/New_York:20260425T110000
DTEND;TZID=America/New_York:20260426T150000
DTSTAMP:20260425T101144
CREATED:20260411T122523Z
LAST-MODIFIED:20260422T172912Z
UID:3647-1777114800-1777215600@yokosobuffalo.org
SUMMARY:バッファロー桜まつり／Buffalo Cherry Blossom Festival
DESCRIPTION:Celebrate inside The Buffalo History Museum and outside in the Japanese Garden with cultural displays and activities.\nLearn about bonsai\, origami\, folk dolls\, and Kanazawa\, our sister city in Japan at activity tables inside the Buffalo History Museum.\nEnjoy Music is Art’s 3 stages of live music in the Japanese Garden.\nStroll in the garden and take a ride on the pink boats on Mirror Lake. Grab something to eat from the Food Trucks.\nバッファロー日本庭園の桜をバックに、ライブ音楽をお楽しみください。\n詳しくはウェブサイトをご覧ください。\n4/25 (Sat) 11:00-3:00\n4/26 (Sun) 11:00-3:00
URL:https://yokosobuffalo.org/event/%e3%83%90%e3%83%83%e3%83%95%e3%82%a1%e3%83%ad%e3%83%bc%e6%a1%9c%e3%81%be%e3%81%a4%e3%82%8a%ef%bc%8fbuffalo-cherry-blossom-festival/
LOCATION:Buffalo History Museum\, 1 Museum Ct\,\, Buffalo\, NY\, 14216\, United States
CATEGORIES:Events in Buffalo/WNY
END:VEVENT
BEGIN:VEVENT
DTSTART;VALUE=DATE:20260321
DTEND;VALUE=DATE:20260330
DTSTAMP:20260425T101144
CREATED:20260318T200932Z
LAST-MODIFIED:20260318T201244Z
UID:3598-1774051200-1774828799@yokosobuffalo.org
SUMMARY:メープルウィークエンド／Maple Weekend
DESCRIPTION:春の風物詩のMaple Weekendが今週末と来週末に行われます。甘くて美味しいメープルシロップの製造過程を見たり味見をしたり、この時期にバッファローでしかできない体験ですね。\nThe Maple Weekend\, a symbol of our Spring\, is coming this weekend (Saturday\, March 21 and Sunday\, March 22) and next weekend (Saturday\, March 28 and Sunday\, March 29).　You’ll enjoy seeing how maple syrup is made and tasting newly-made maple syrup products.
URL:https://yokosobuffalo.org/event/%e3%83%a1%e3%83%bc%e3%83%97%e3%83%ab%e3%82%a6%e3%82%a3%e3%83%bc%e3%82%af%e3%82%a8%e3%83%b3%e3%83%89%ef%bc%8fmaple-weekend/
LOCATION:NY
CATEGORIES:Events in Buffalo/WNY
END:VEVENT
END:VCALENDAR