BEGIN:VCALENDAR
VERSION:2.0
PRODID:-//バッファロー日本人会 Japanese Group of Buffalo - ECPv6.15.20//NONSGML v1.0//EN
CALSCALE:GREGORIAN
METHOD:PUBLISH
X-ORIGINAL-URL:https://yokosobuffalo.org
X-WR-CALDESC:バッファロー日本人会 Japanese Group of Buffalo のイベント
REFRESH-INTERVAL;VALUE=DURATION:PT1H
X-Robots-Tag:noindex
X-PUBLISHED-TTL:PT1H
BEGIN:VTIMEZONE
TZID:America/New_York
BEGIN:DAYLIGHT
TZOFFSETFROM:-0500
TZOFFSETTO:-0400
TZNAME:EDT
DTSTART:20250309T070000
END:DAYLIGHT
BEGIN:STANDARD
TZOFFSETFROM:-0400
TZOFFSETTO:-0500
TZNAME:EST
DTSTART:20251102T060000
END:STANDARD
BEGIN:DAYLIGHT
TZOFFSETFROM:-0500
TZOFFSETTO:-0400
TZNAME:EDT
DTSTART:20260308T070000
END:DAYLIGHT
BEGIN:STANDARD
TZOFFSETFROM:-0400
TZOFFSETTO:-0500
TZNAME:EST
DTSTART:20261101T060000
END:STANDARD
BEGIN:DAYLIGHT
TZOFFSETFROM:-0500
TZOFFSETTO:-0400
TZNAME:EDT
DTSTART:20270314T070000
END:DAYLIGHT
BEGIN:STANDARD
TZOFFSETFROM:-0400
TZOFFSETTO:-0500
TZNAME:EST
DTSTART:20271107T060000
END:STANDARD
END:VTIMEZONE
BEGIN:VEVENT
DTSTART;TZID=America/New_York:20260604T170000
DTEND;TZID=America/New_York:20260604T200000
DTSTAMP:20260425T085932
CREATED:20260410T201720Z
LAST-MODIFIED:20260410T201720Z
UID:3635-1780592400-1780603200@yokosobuffalo.org
SUMMARY:春の領事出張サービス
DESCRIPTION:在ニューヨーク総領事館では、下記の日程で「領事出張サービス」を開催する予定です。\nご利用に際しては、事前の手続き等が必要となります。詳細については、以下の「サービス内容」をご確認ください。\n諸般の事情によって、急遽中止または延期となる場合がありますところ、予めご了承いただきますようお願いいたします。\n※書類の必着期限は5月22日（金）です。\n※パスポートの申請は、開催日の6週間前までには審査が完了するよう早めに申請を開始してください。
URL:https://yokosobuffalo.org/event/%e6%98%a5%e3%81%ae%e9%a0%98%e4%ba%8b%e5%87%ba%e5%bc%b5%e3%82%b5%e3%83%bc%e3%83%93%e3%82%b9/
LOCATION:Buffalo Airport Hotel\, 4600 Genesee Street\, Cheektowaga\, NY\, NY\, 14225
CATEGORIES:Events in Buffalo/WNY
END:VEVENT
END:VCALENDAR